BEGIN:VCALENDAR
VERSION:2.0
PRODID:-//wp-events-plugin.com//7.2.2.1//EN
BEGIN:VEVENT
UID:1@devnet-expert.com
DTSTART;TZID=Asia/Kolkata:20230806T180000
DTEND;TZID=Asia/Kolkata:20230806T190000
DTSTAMP:20230803T223100Z
URL:https://devnet-expert.com/events/devnet-expert-webinar/
SUMMARY:DevNet Expert Webinar
DESCRIPTION:Agenda For Webinar\nAll You Need to Know About the Bootcamp\n\n
  	Discuss the Bootcamp Content\n 	DevNet Expert Bootcamp Lab\n 	What all p
 rovided in our bootcamp\n
ATTACH;FMTTYPE=image/jpeg:https://devnet-expert.com/wp-content/uploads/202
 3/07/Devnet-Certifications-Expert.png
CATEGORIES:Free
END:VEVENT
BEGIN:VEVENT
UID:2@devnet-expert.com
DTSTART;TZID=Asia/Kolkata:20230910T180000
DTEND;TZID=Asia/Kolkata:20230910T190000
DTSTAMP:20230826T130638Z
URL:https://devnet-expert.com/events/ccna-to-ccie-devnet-webinar/
SUMMARY:CCNA To CCIE DevNet Webinar
DESCRIPTION:Agenda For Webinar\nIf you dont know Whats is DevNet\, "Future 
 of Network" You can Join we CCNA To CCIE DevNet Live Webinar\n\n 	CCNA I C
 CNP I CCIE DevNet Contents\n 	Pre-requisite\n 	Who Join this course\n 	Ben
 efits for Career growth\n 	Market Demand\n
ATTACH;FMTTYPE=image/jpeg:https://devnet-expert.com/wp-content/uploads/202
 3/07/Devnet-Certifications-Expert.png
CATEGORIES:Free
END:VEVENT
BEGIN:VEVENT
UID:5@devnet-expert.com
DTSTART;TZID=Asia/Kolkata:20231015T180000
DTEND;TZID=Asia/Kolkata:20231015T190000
DTSTAMP:20230826T132955Z
URL:https://devnet-expert.com/events/cisco-devnet-expert-bootcamp-live-web
 inar/
SUMMARY:Cisco DevNet Expert Bootcamp Live Webinar
DESCRIPTION:Agenda For Webinar\nIf you dont know Whats is DevNet\, "Future 
 of Network" You can Join we CCNA To CCIE DevNet Live Webinar\n\n 	CCIE Dev
 Net Lab Contents\n 	Pre-requisite\n 	Who Join this course\n 	Benefits for 
 Career growth\n 	Market Demand\n
ATTACH;FMTTYPE=image/jpeg:https://devnet-expert.com/wp-content/uploads/202
 3/07/Devnet-Certifications-Expert.png
CATEGORIES:Free
END:VEVENT
BEGIN:VEVENT
UID:13@devnet-expert.com
DTSTART;TZID=Asia/Kolkata:20240225T180000
DTEND;TZID=Asia/Kolkata:20240225T190000
DTSTAMP:20231226T061306Z
URL:https://devnet-expert.com/events/ccna-to-ccie-devnet/
SUMMARY:CCNA To CCIE Devnet
DESCRIPTION:Agenda For Webinar\nIf you dont know Whats is DevNet\, "Future 
 of Network" You can Join we CCNA To CCIE DevNet Live Webinar\n\n 	CCNP I C
 CIE DevNet Contents\n 	Pre-requisite\n 	Who Join this course\n 	Benefits f
 or Career growth\n 	Market Demand\n
ATTACH;FMTTYPE=image/jpeg:https://devnet-expert.com/wp-content/uploads/202
 3/08/Devnet-Certifications-Expert-1.png
CATEGORIES:Free
END:VEVENT
BEGIN:VEVENT
UID:3@devnet-expert.com
DTSTART;TZID=Asia/Kolkata:20241124T180000
DTEND;TZID=Asia/Kolkata:20241124T190000
DTSTAMP:20241105T065854Z
URL:https://devnet-expert.com/events/ccna-to-ccie-devnet-2/
SUMMARY:CCNA To CCIE Devnet
DESCRIPTION:Agenda For Webinar\nIf you dont know Whats is DevNet\, "Future 
 of Network" You can Join we CCNA To CCIE DevNet Live Webinar\n\n 	CCNP I C
 CIE DevNet Contents\n 	Pre-requisite\n 	Who Join this course\n 	Benefits f
 or Career growth\n 	Market Demand\n
ATTACH;FMTTYPE=image/jpeg:https://devnet-expert.com/wp-content/uploads/202
 3/07/Devnet-Certifications-Expert.png
CATEGORIES:Free
END:VEVENT
BEGIN:VEVENT
UID:11@devnet-expert.com
DTSTART;TZID=Asia/Kolkata:20241229T180000
DTEND;TZID=Asia/Kolkata:20241229T190000
DTSTAMP:20241105T070045Z
URL:https://devnet-expert.com/events/ccie-devnet-live-webinar-3/
SUMMARY:CCIE DevNet Live Webinar
DESCRIPTION:Agenda For Webinar\nIf you dont know Whats is DevNet\, "Future 
 of Network" You can Join we CCIE DevNet Live Webinar\n\n 	CCNP I CCIE DevN
 et Contents\n 	Pre-requisite\n 	Who Join this course\n 	Benefits for Caree
 r growth\n 	Market Demand\n
ATTACH;FMTTYPE=image/jpeg:https://devnet-expert.com/wp-content/uploads/202
 3/08/cisko.png
END:VEVENT
BEGIN:VEVENT
UID:10@devnet-expert.com
DTSTART;TZID=Asia/Kolkata:20250126T180000
DTEND;TZID=Asia/Kolkata:20250126T190000
DTSTAMP:20241105T070149Z
URL:https://devnet-expert.com/events/ccnp-ccie-devnet-live-webinar/
SUMMARY:CCNP & CCIE DevNet Live Webinar
DESCRIPTION:Agenda For Webinar\nIf you dont know Whats is DevNet\, "Future 
 of Network" You can Join we CCNP To CCIE DevNet Live Webinar\n\n 	CCNP I C
 CIE DevNet Contents\n 	Pre-requisite\n 	Who Join this course\n 	Benefits f
 or Career growth\n 	Market Demand\n
ATTACH;FMTTYPE=image/jpeg:https://devnet-expert.com/wp-content/uploads/202
 3/08/cisko.png
END:VEVENT
BEGIN:VEVENT
UID:9@devnet-expert.com
DTSTART;TZID=Asia/Kolkata:20250223T180000
DTEND;TZID=Asia/Kolkata:20250223T190000
DTSTAMP:20241105T070252Z
URL:https://devnet-expert.com/events/ccie-devnet-live-webinar/
SUMMARY:CCIE DevNet Live Webinar
DESCRIPTION:Agenda For Webinar\nIf you dont know Whats is DevNet\, "Future 
 of Network" You can Join we CCIE DevNet Live Webinar\n\n 	CCNP I CCIE DevN
 et Contents\n 	Pre-requisite\n 	Who Join this course\n 	Benefits for Caree
 r growth\n 	Market Demand\n
ATTACH;FMTTYPE=image/jpeg:https://devnet-expert.com/wp-content/uploads/202
 3/08/Devnet-Certifications-Expert-1.png
END:VEVENT
BEGIN:VTIMEZONE
TZID:Asia/Kolkata
X-LIC-LOCATION:Asia/Kolkata
BEGIN:STANDARD
DTSTART:20220806T180000
TZOFFSETFROM:+0530
TZOFFSETTO:+0530
TZNAME:IST
END:STANDARD
END:VTIMEZONE
END:VCALENDAR