BEGIN:VCALENDAR
VERSION:2.0
PRODID:-//wp-events-plugin.com//7.2.2.1//EN
BEGIN:VEVENT
UID:11@devnet-expert.com
DTSTART;TZID=Asia/Kolkata:20241229T180000
DTEND;TZID=Asia/Kolkata:20241229T190000
DTSTAMP:20241105T070045Z
URL:https://devnet-expert.com/events/ccie-devnet-live-webinar-3/
SUMMARY:CCIE DevNet Live Webinar
DESCRIPTION:Agenda For Webinar\nIf you dont know Whats is DevNet\, "Future 
 of Network" You can Join we CCIE DevNet Live Webinar\n\n 	CCNP I CCIE DevN
 et Contents\n 	Pre-requisite\n 	Who Join this course\n 	Benefits for Caree
 r growth\n 	Market Demand\n
ATTACH;FMTTYPE=image/jpeg:https://devnet-expert.com/wp-content/uploads/202
 3/08/cisko.png
END:VEVENT
BEGIN:VTIMEZONE
TZID:Asia/Kolkata
X-LIC-LOCATION:Asia/Kolkata
BEGIN:STANDARD
DTSTART:20231230T180000
TZOFFSETFROM:+0530
TZOFFSETTO:+0530
TZNAME:IST
END:STANDARD
END:VTIMEZONE
END:VCALENDAR