BEGIN:VCALENDAR
VERSION:2.0
PRODID:-//wp-events-plugin.com//7.2.2.1//EN
BEGIN:VEVENT
UID:3@devnet-expert.com
DTSTART;TZID=Asia/Kolkata:20241124T180000
DTEND;TZID=Asia/Kolkata:20241124T190000
DTSTAMP:20241105T065854Z
URL:https://devnet-expert.com/events/ccna-to-ccie-devnet-2/
SUMMARY:CCNA To CCIE Devnet
DESCRIPTION:Agenda For Webinar\nIf you dont know Whats is DevNet\, "Future 
 of Network" You can Join we CCNA To CCIE DevNet Live Webinar\n\n 	CCNP I C
 CIE DevNet Contents\n 	Pre-requisite\n 	Who Join this course\n 	Benefits f
 or Career growth\n 	Market Demand\n
ATTACH;FMTTYPE=image/jpeg:https://devnet-expert.com/wp-content/uploads/202
 3/07/Devnet-Certifications-Expert.png
CATEGORIES:Free
END:VEVENT
BEGIN:VTIMEZONE
TZID:Asia/Kolkata
X-LIC-LOCATION:Asia/Kolkata
BEGIN:STANDARD
DTSTART:20231125T180000
TZOFFSETFROM:+0530
TZOFFSETTO:+0530
TZNAME:IST
END:STANDARD
END:VTIMEZONE
END:VCALENDAR